Workbook
Name eur: '0-Instructiuni'!$J$10
Name FDR: '0-Instructiuni'!#REF!
Name RAF: [1]Instructiuni!#REF!

Sheet 0-Instructiuni
C3: Anexa 9 b- Formular ]ntreprindere în dificultate
B4: REGULI DE COMPLETARE
C5: - Macheta financiara este securizata, astfel ca Solicitantul poate introduce valori doar in celulele predefinite, marcate cu culoarea galbena
C6: - In vederea stabilirii corectitudinii introducerii valorilor din situatiile financiare, au fost prevazute formule de verificare a unor corelatii. Daca corelatia se verifica, mesajul care apare este "OK", iar in situatia in care formula identifica o necorelare, mesajul este
C7: "ERROR";
C8: - simbolurile (+) sau (-) din fata unor randuri indica semnul cu care trebuie introdusa suma in tabel.
C10: Cursul Inforeuro din luna publicării ghidului solicitantului | J10: 4.9493

Sheet 1-Bilant_PJFSP
C3: SITUATII FINANCIARE INCHEIATE DE PERSOANELE JURIDICE FARA SCOP PATRIMONIAL
C5: N = anul anterior depunerii cererii de finantare
C7: BILANT (cod 10) | G7: N
C9: A. ACTIVE IMOBILIZATE
C10: I. Imobilizari corporale | E10: (+)
C11: II. Imobilizari necorporale | E11: (+)
C12: III. Imobilizari financiare | E12: (+)
C13: TOTAL ACTIVE IMOBILIZATE | G13: =SUM(G10:G12) -> 0
C14: B. ACTIVE CIRCULANTE
C15: I. Stocuri | E15: (+)
C16: II. Creante | E16: (+)
C17: III. Investitii pe termen scurt | E17: (+)
C18: IV. Casa si conturi la banci | E18: (+)
C19: TOTAL ACTIVE CIRCULANTE | G19: =SUM(G15:G18) -> 0
C20: C. CHELTUIELI IN AVANS | E20: (+)
C21: D. DATORII CARE TREBUIE PLATITE INTR-O PERIOADA DE PANA LA UN AN | E21: (+)
C22: E. DATORII CARE TREBUIE PLATITE INTR-O PERIOADA MAI MARE DE UN AN | E22: (+)
C23: F. PROVIZIOANE | E23: (+)
C24: I. VENITURI IN AVANS
C25: 1. Subventii pentru investitii | E25: (+)
C26: 2. Venituri inregistrate in avans | E26: (+)
C27: 3. Venituri in avans aferente activelor primite prin transfer de la clienti | E27: (+)
C28: TOTAL VENITURI IN AVANS | G28: =SUM(G25:G27) -> 0
C29: J. CAPITAL SI REZERVE
C30: I. Capital | E30: (+)
C31: II. Rezerve din reevaluare | E31: (+)
C32: III. Rezerve | E32: (+)
C33: V. Rezultatul reportat reprezentând excedentul/profitul sau deficitul/pierderea reportat(a) | E33: (+) / (-)
C34: VI. Excedentul/profitul sau deficitul/pierderea exercitiului financiar | E34: (+) / (-)
C35: VII. Repartizarea excedentului/profitului | E35: (-)
C36: TOTAL CAPITALURI PROPRII | G36: =SUM(G30:G35) -> 0
C37: Fondul Social al membrilor CAR | E37: (+)
C38: Fondul pentru ajutor in caz de deces al membrilor CAR | E38: (+)
C39: Fondul de rulment al membrilor Asociatiilor de proprietari | E39: (+)
C40: Alte fonduri privind activitatile fara scop patrimonial | E40: (+)
C41: Patrimoniul privat | E41: (+)
C42: CAPITALURI - TOTAL | G42: =SUM(G36:G41) -> 0
C44: CHECK | G44: =IFERROR(IF(ABS(G13+G19+G20-G21-G22-G23-G28-G42)>1,"ERROR","OK"),"OK") -> OK

Sheet 2-Bilant_IP
C3: SITUATII FINANCIARE INCHEIATE DE INSTITUTII PUBLICE
C5: N = anul anterior depunerii cererii de finantare
C7: BILANT (cod 01) | G7: N-1 | H7: N
C9: A. ACTIVE
C10: ACTIVE NECURENTE
C11: Active fixe corporale | E11: (+)
C12: Instalaţii tehnice, mijloace de transport, animale, plantaţii, mobilier, aparatură birotică şi alte active corporal | E12: (+)
C13: Terenuri şi clădiri | E13: (+)
C14: Alte active nefinanciare | E14: (+)
C15: Active financiare necurente (investiţii pe termen lung) peste un an | E15: (+)
C16: Creanțe necurente – sume ce urmează a fi încasate după o perioadă mai mare de un an | E16: (+)
C17: TOTAL ACTIVE NECURENTE | G17: =SUM(G11:G16) -> 0 | H17: =SUM(H11:H16) -> 0
C18: ACTIVE CURENTE
C19: Stocuri | E19: (+)
C20: Creanţe curente – sume ce urmează a fi încasate într-o perioadă mai mică de un an | E20: (+)
C21: Creanţe din operaţiuni comerciale, avansuri şi alte decontări | E21: (+)
C22: Creanţe comerciale şi avansuri | E22: (+)
C23: Creanţe bugetare | E23: (+)
C24: Creanţe din operaţiuni cu fonduri externe nerambursabile şi fonduri de la buget | E24: (+)
C25: Împrumuturi pe termen scurt acordate | E25: (+)
C26: Total creante curente | G26: =G21+G23+G24+G25 -> 0 | H26: =H21+H23+H24+H25 -> 0
C27: Investiţii pe termen scurt | E27: (+)
C28: Conturi la trezorerii şi instituţii de credit
C29: Conturi la trezorerie, casa în lei | E29: (+)
C30: Dobândă de încasat, avansuri de trezoreri | E30: (+)
C31: Conturi la instituţii de credit, BNR, casă în valută | E31: (+)
C32: Dobândă de încasat, avansuri de trezoreri | E32: (+)
C33: Total disponibilităţi şi alte valori | G33: =G29+G30+G31+G32 -> 0 | H33: =H29+H30+H31+H32 -> 0
C34: Conturi de disponibilităţi ale Trezoreriei Centrale şi ale trezoreriilor teritoriale | E34: (+)
C35: Dobândă de încasat, alte valori, avansuri de trezorerie | E35: (+)
C36: Cheltuieli în avans | E36: (+)
C37: TOTAL ACTIVE CURENTE | G37: =G19+G26+G27+G33+G34+G35+G36 -> 0 | H37: =H19+H26+H27+H33+H34+H35+H36 -> 0
C38: TOTAL ACTIVE | G38: =G37+G17 -> 0 | H38: =H37+H17 -> 0
C39: B. DATORII
C40: DATORII NECURENTE
C41: Sume necurente- sume ce urmează a fi plătite după o perioadă mai mare de un an | E41: (+)
C42: Împrumuturi pe termen lung | E42: (+)
C43: Provizioane | E43: (+)
C44: TOTAL DATORII NECURENTE | G44: =SUM(G41:G43) -> 0 | H44: =SUM(H41:H43) -> 0
C45: DATORII CURENTE
...

Sheet 3-Dific_PJFSP
C3: Pentru a fi eligibil, solicitantul trebuie să nu se încadreze în categoria întreprinderilor în dificultate.
C4: Verificarea de la pct. 1) se face în mod automat, în baza informațiilor introduse deja. Verificarea de la pct. 1) nu este aplicabilă întreprinderilor ce au mai puțin de 3 ani de la înființare. Punctele 2) și 3) de mai jos fac obiectul Declarației de eligibilitate, pe propria răspundere.
C6: O întreprindere este considerată a fi în dificultate dacă este îndeplinită cel puțin una dintre următoarele condiții*:
C8: 1) | D8: Când mai mult de jumătate din capitalul social subscris a dispărut din cauza pierderilor acumulate. (Această situație survine atunci când deducerea pierderilor acumulate din rezerve (și din toate celelalte elemente considerate în general ca făcând parte din fondurile proprii ale societății) conduce la un cuantum cumulat negativ care depășește jumătate din capitalul social subscris)
C10: i) | D10: Se calculează Rezultatul total acumulat al solicitantului
D11: Rezultatul reportat | H11: ='1-Bilant_PJFSP'!G33 -> 0
D12: Rezultatul exercitiului financiar | H12: ='1-Bilant_PJFSP'!G34 -> 0
D13: Rezultatul total acumulat | H13: =H11+H12 -> 0
D15: Rezultat: | E15: =IF(H13>0,"Solicitantul nu se incadreaza in categoria intreprinderilor in dificultate","Se trece la pasul ii)") -> Se trece la pasul ii)
C17: ii) | D17: Dacă Rezultatul total acumulat este negativ (Pierdere acumulata), atunci se calculează Pierderile de capital (Pierderea acumulata + Prime de capital + Rezerve din reevaluare + Rezerve)
D18: Capital social subscris si varsat | H18: =IF($H$13<0,'1-Bilant_PJFSP'!G30,"")
D19: Rezerve din reevaluare | H19: =IF($H$13<0,'1-Bilant_PJFSP'!G31,"")
D20: Rezerve | H20: =IF($H$13<0,'1-Bilant_PJFSP'!G32,"")
D21: Rezultat: | E21: =IF(OR(H18="",H13+SUM(H19:H20)>=0),"Nu exista pierdere de capital",H13+SUM(H19:H20)) -> Nu exista pierdere de capital
C23: iii) | D23: Dacă valoarea rezultată negativă reprezintă cel mult 50% din Capital social subscris si vărsat, atunci solicitantul nu se încadrează în categoria întreprinderilor în dificultate.
D24: Rezultat: | E24: =CONCATENATE("Solicitantul ",IF(H13>=0,"nu ",IF(E21="Nu exista pierdere de capital","nu ", IF(ABS(E21)>H18/2,"","nu "))),"se încadrează în categoria întreprinderilor în dificultate") -> Solicitantul nu se încadrează în categoria întreprinderilor în dificultate
C26: 2) | D26: Atunci când întreprinderea face obiectul unei proceduri colective de insolvență sau îndeplinește criteriile prevăzute de legislația națională pentru inițierea unei proceduri colective de insolvență la cererea creditorilor săi.
C28: 3) | D28: Atunci când întreprinderea a primit ajutor pentru salvare și nu a rambursat încă împrumutul sau nu a încetat garanția sau a primit ajutoare pentru restructurare și face încă obiectul unui plan de restructurare.
C31: *) În conformitate cu prevederile Regulamentului (UE) nr. 651/2014 al Comisiei din 17 iunie 2014 de declarare a anumitor categorii de ajutoare compatibile cu piața internă în aplicarea articolelor 107 și 108 din tratat

Sheet 4-Dific_IP
C3: Pentru a fi eligibil, solicitantul trebuie să nu se încadreze în categoria întreprinderilor în dificultate.
C4: Verificarea de la pct. 1) se face în mod automat, în baza informațiilor introduse deja. Punctele 2) și 3) de mai jos fac obiectul Declarației de eligibilitate, pe propria răspundere.
C6: O întreprindere este considerată a fi în dificultate dacă este îndeplinită cel puțin una dintre următoarele condiții*:
C8: 1) | D8: În cazul unei întreprinderi care nu este un IMM, atunci când, în ultimii doi ani: 1. raportul datorii/capitaluri proprii al întreprinderii este mai mare de 7,5; și 2. capacitatea de acoperire a dobânzilor calculată pe baza EBITDA se situează sub valoarea 1,0
C10: a | D10: Rezerve, fonduri | H10: ='2-Bilant_IP'!G61 -> 0 | I10: ='2-Bilant_IP'!H61 -> 0
C11: b | D11: Rezultatul reportat | H11: ='2-Bilant_IP'!G62+'2-Bilant_IP'!G63 -> 0 | I11: ='2-Bilant_IP'!H62+'2-Bilant_IP'!H63 -> 0
C12: c | D12: Rezultatul patrimonial al exercitiului | H12: ='2-Bilant_IP'!G64+'2-Bilant_IP'!G65 -> 0 | I12: ='2-Bilant_IP'!H64+'2-Bilant_IP'!H65 -> 0
C13: A | D13: CAPITALURI PROPRII | H13: =SUM(H10:H12) -> 0 | I13: =SUM(I10:I12) -> 0
C14: a | D14: Datorii curente | H14: ='2-Bilant_IP'!G57 -> 0 | I14: ='2-Bilant_IP'!H57 -> 0
C15: b | D15: Datorii necurente | H15: ='2-Bilant_IP'!G44 -> 0 | I15: ='2-Bilant_IP'!H44 -> 0
C16: B | D16: DATORII TOTALE | H16: =SUM(H14:H15) -> 0 | I16: =SUM(I14:I15) -> 0
C17: a | D17: Profit net | H17: ='2-Bilant_IP'!G97 -> 0 | I17: ='2-Bilant_IP'!H97 -> 0
C18: b | D18: Cheltuieli cu impozitele | H18: ='2-Bilant_IP'!G96 -> 0 | I18: ='2-Bilant_IP'!H96 -> 0
C19: c | D19: Cheltuieli cu dobanzile | H19: ='2-Bilant_IP'!G89 -> 0 | I19: ='2-Bilant_IP'!H89 -> 0
C20: d | D20: Cheltuieli cu amortizarea | H20: ='2-Bilant_IP'!G83 -> 0 | I20: ='2-Bilant_IP'!H83 -> 0
C21: C | D21: EBITDA | H21: {=IF(SUM(H17:H20)>0,H17:H20,"NA")} -> NA | I21: {=IF(SUM(I17:I20)>0,I17:I20,"NA")} -> NA
D23: RAPORTUL DATORII/CAPITALURI PROPRII | H23: =IFERROR(H16/H13,7.5) -> 7.5 | I23: =IFERROR(I16/I13,7.5) -> 7.5
D25: CAPACITATEA DE ACOPERIRE A DOBANZILOR | H25: =IFERROR(IF(H19>0,H21/H19,IF(H21>0,1,"")),"") -> 1 | I25: =IFERROR(IF(I19>0,I21/I19,IF(I21>0,1,"")),"") -> 1
D27: Rezultat: | E27: =CONCATENATE("Solicitantul ",IF(AND(H23<=7.5,I23<=7.5,H25>=1,I25>=1),"nu ",""),"se încadrează în categoria întreprinderilor în dificultate") -> Solicitantul nu se încadrează în categoria întreprinderilor în dificultate
C29: 2) | D29: Atunci când întreprinderea face obiectul unei proceduri colective de insolvență sau îndeplinește criteriile prevăzute de legislația națională pentru inițierea unei proceduri colective de insolvență la cererea creditorilor săi.
C31: 3) | D31: Atunci când întreprinderea a primit ajutor pentru salvare și nu a rambursat încă împrumutul sau nu a încetat garanția sau a primit ajutoare pentru restructurare și face încă obiectul unui plan de restructurare.
C34: *) În conformitate cu prevederile Regulamentului (UE) nr. 651/2014 al Comisiei din 17 iunie 2014 de declarare a anumitor categorii de ajutoare compatibile cu piața internă în aplicarea articolelor 107 și 108 din tratat
